BEGIN:VCALENDAR
VERSION:2.0
PRODID:-//KonzertKult | Barna Tanko Photography - ECPv6.15.20//NONSGML v1.0//EN
CALSCALE:GREGORIAN
METHOD:PUBLISH
X-WR-CALNAME:KonzertKult | Barna Tanko Photography
X-ORIGINAL-URL:https://barnatanko.com
X-WR-CALDESC:Events for KonzertKult | Barna Tanko Photography
REFRESH-INTERVAL;VALUE=DURATION:PT1H
X-Robots-Tag:noindex
X-PUBLISHED-TTL:PT1H
BEGIN:VTIMEZONE
TZID:Europe/Berlin
BEGIN:DAYLIGHT
TZOFFSETFROM:+0100
TZOFFSETTO:+0200
TZNAME:CEST
DTSTART:20250330T010000
END:DAYLIGHT
BEGIN:STANDARD
TZOFFSETFROM:+0200
TZOFFSETTO:+0100
TZNAME:CET
DTSTART:20251026T010000
END:STANDARD
BEGIN:DAYLIGHT
TZOFFSETFROM:+0100
TZOFFSETTO:+0200
TZNAME:CEST
DTSTART:20260329T010000
END:DAYLIGHT
BEGIN:STANDARD
TZOFFSETFROM:+0200
TZOFFSETTO:+0100
TZNAME:CET
DTSTART:20261025T010000
END:STANDARD
BEGIN:DAYLIGHT
TZOFFSETFROM:+0100
TZOFFSETTO:+0200
TZNAME:CEST
DTSTART:20270328T010000
END:DAYLIGHT
BEGIN:STANDARD
TZOFFSETFROM:+0200
TZOFFSETTO:+0100
TZNAME:CET
DTSTART:20271031T010000
END:STANDARD
END:VTIMEZONE
BEGIN:VEVENT
DTSTART;TZID=Europe/Berlin:20260626T190000
DTEND;TZID=Europe/Berlin:20260626T190000
DTSTAMP:20260422T161139
CREATED:20260418T152445Z
LAST-MODIFIED:20260418T153348Z
UID:11492-1782500400-1782500400@barnatanko.com
SUMMARY:SUNN O)))
DESCRIPTION:SUNN O))) \n+NATASHA GRUJOVIC & STEVE MOORE \nSunn O))) (pronounced simply as “sun”) is an American drone metal band from Seattle\, Washington\, known for their extreme volume and slow\, heavy soundscapes. \nThe Band’s Sound and Identity\n\nMusical Style: They are pioneers of drone metal\, blending elements of doom metal\, black metal\, and dark ambient.\nVisual Aesthetics: Performances often feature the band members wearing black hooded cloaks amidst thick clouds of fog.\nName Origin: The name is a tribute to the Sunn amplifier brand\, whose logo features a circle with waves (the “O)))”).\nCore Members: The group was founded in 1998 by Stephen O’Malley and Greg Anderson. \n\n 
URL:https://barnatanko.com/event/sunn-o/
LOCATION:Essigfabrik\, Siegburger Str. 110\, Cologne\, 50579\, Germany
CATEGORIES:Metalcore
ATTACH;FMTTYPE=image/webp:https://barnatanko.com/wp-content/uploads/2026/04/661033615_1344206624400893_5380728560291179368_n.webp
END:VEVENT
END:VCALENDAR