BEGIN:VCALENDAR
VERSION:2.0
PRODID:-//KonzertKult | Barna Tanko Photography - ECPv6.15.20//NONSGML v1.0//EN
CALSCALE:GREGORIAN
METHOD:PUBLISH
X-WR-CALNAME:KonzertKult | Barna Tanko Photography
X-ORIGINAL-URL:https://barnatanko.com
X-WR-CALDESC:Events for KonzertKult | Barna Tanko Photography
REFRESH-INTERVAL;VALUE=DURATION:PT1H
X-Robots-Tag:noindex
X-PUBLISHED-TTL:PT1H
BEGIN:VTIMEZONE
TZID:Europe/Berlin
BEGIN:DAYLIGHT
TZOFFSETFROM:+0100
TZOFFSETTO:+0200
TZNAME:CEST
DTSTART:20250330T010000
END:DAYLIGHT
BEGIN:STANDARD
TZOFFSETFROM:+0200
TZOFFSETTO:+0100
TZNAME:CET
DTSTART:20251026T010000
END:STANDARD
BEGIN:DAYLIGHT
TZOFFSETFROM:+0100
TZOFFSETTO:+0200
TZNAME:CEST
DTSTART:20260329T010000
END:DAYLIGHT
BEGIN:STANDARD
TZOFFSETFROM:+0200
TZOFFSETTO:+0100
TZNAME:CET
DTSTART:20261025T010000
END:STANDARD
BEGIN:DAYLIGHT
TZOFFSETFROM:+0100
TZOFFSETTO:+0200
TZNAME:CEST
DTSTART:20270328T010000
END:DAYLIGHT
BEGIN:STANDARD
TZOFFSETFROM:+0200
TZOFFSETTO:+0100
TZNAME:CET
DTSTART:20271031T010000
END:STANDARD
END:VTIMEZONE
BEGIN:VEVENT
DTSTART;TZID=Europe/Berlin:20260705T180000
DTEND;TZID=Europe/Berlin:20260705T180000
DTSTAMP:20260424T221447
CREATED:20260416T082508Z
LAST-MODIFIED:20260416T083550Z
UID:11328-1783274400-1783274400@barnatanko.com
SUMMARY:Sex Pistols Feat. Frank Carter
DESCRIPTION:Sex Pistols Feat. Frank Carter \nVery Special Guests: The Damned \n05.07.2026 | Köln Südbrücke \nAnarchy in the United Kingdom – a prophecy\, a legacy\, and above all\, a classic celebrating its 50th anniversary! With “Anarchy in the UK\,” Paul Cook\, Steve Jones\, and Glen Matlock of the legendary punk band Sex Pistols secured their place in the Rock and Roll Hall of Fame. Joining Frank Carter\, frontman of Frank Carter & The Rattlesnakes\, they stormed the stages once again and played two shows in Germany in the summer of 2025. Since this proved so infectiously successful for both the band and the audience\, they are returning to Germany for three exclusive shows in 2026 to celebrate their anniversary. The Sex Pistols hardly need an introduction: 50 years after their formation\, they are still considered one of the most influential punk bands of all time. School friends Steve Jones and Paul Cook founded the band and\, with the help of their infamous manager Malcolm McLaren\, recruited bassist Glen Matlock and singer John Lydon\, aka Johnny Rotten. After some initial small concerts\, they signed a record deal with EMI Records\, which was terminated shortly after the release of their debut single\, “Anarchy in the UK\,” and a scandalous appearance on the Today Show. An attempt with A&M Records also failed\, until finally\, with Virgin Records\, things worked out: in 1977\, “God Save the Queen” was released – and the Sex Pistols became instant global stars. Their only album\, “Never Mind the Bollocks\, Here’s the Sex Pistols\,” became a punk milestone. But just a year later\, the band broke up after a disastrous American tour and internal conflicts. Their influence\, however\, lived on: even though they weren’t the first punk band\, the Sex Pistols shaped the genre like no other and made it world-famous. Almost every punk band after them cites them as a major source of inspiration; they set musical and fashion standards that continue to resonate today. Frank Carter’s fresh energy made the iconic songs sound more powerful than ever – anyone who was in the mosh pit can attest to that! Fans in Germany have something to look forward to: In the summer of 2026\, Frank Carter and Paul Cook\, Steve Jones and Glen Metlock of the Sex Pistols will come to Germany for three exclusive shows and celebrate Anarchy in Germany! \nFormed in London in 1976\, The Damned are pioneers of the UK punk scene. They hold several historic “firsts” in the genre: First Single: Released “New Rose” in October 1976\, predating the Sex Pistols. First Album: Released Damned Damned Damned in February 1977. First US Tour: They were the first British punk group to tour the United States.\n  \n\n 
URL:https://barnatanko.com/event/sex-pistols-feat-frank-carter/
LOCATION:Köln Südbrücke\, Alfred-Schütte-Allee 34\, Köln\, 51105\, Germany
CATEGORIES:Punk
ATTACH;FMTTYPE=image/webp:https://barnatanko.com/wp-content/uploads/2026/04/csm_Sex_Pistols_Frank_Carter_picture_2025_5b49eb3d20.webp
END:VEVENT
END:VCALENDAR