BEGIN:VCALENDAR
VERSION:2.0
PRODID:-//KonzertKult | Barna Tanko Photography - ECPv6.15.20//NONSGML v1.0//EN
CALSCALE:GREGORIAN
METHOD:PUBLISH
X-WR-CALNAME:KonzertKult | Barna Tanko Photography
X-ORIGINAL-URL:https://barnatanko.com
X-WR-CALDESC:Events for KonzertKult | Barna Tanko Photography
REFRESH-INTERVAL;VALUE=DURATION:PT1H
X-Robots-Tag:noindex
X-PUBLISHED-TTL:PT1H
BEGIN:VTIMEZONE
TZID:Europe/Berlin
BEGIN:DAYLIGHT
TZOFFSETFROM:+0100
TZOFFSETTO:+0200
TZNAME:CEST
DTSTART:20250330T010000
END:DAYLIGHT
BEGIN:STANDARD
TZOFFSETFROM:+0200
TZOFFSETTO:+0100
TZNAME:CET
DTSTART:20251026T010000
END:STANDARD
BEGIN:DAYLIGHT
TZOFFSETFROM:+0100
TZOFFSETTO:+0200
TZNAME:CEST
DTSTART:20260329T010000
END:DAYLIGHT
BEGIN:STANDARD
TZOFFSETFROM:+0200
TZOFFSETTO:+0100
TZNAME:CET
DTSTART:20261025T010000
END:STANDARD
BEGIN:DAYLIGHT
TZOFFSETFROM:+0100
TZOFFSETTO:+0200
TZNAME:CEST
DTSTART:20270328T010000
END:DAYLIGHT
BEGIN:STANDARD
TZOFFSETFROM:+0200
TZOFFSETTO:+0100
TZNAME:CET
DTSTART:20271031T010000
END:STANDARD
END:VTIMEZONE
BEGIN:VEVENT
DTSTART;TZID=Europe/Berlin:20260623T200000
DTEND;TZID=Europe/Berlin:20260623T200000
DTSTAMP:20260422T205833
CREATED:20260419T115404Z
LAST-MODIFIED:20260419T115416Z
UID:11527-1782244800-1782244800@barnatanko.com
SUMMARY:Periphery
DESCRIPTION:Periphery \nSupport: Rain City Drive \nAnyone wanting to understand how metal is reinventing itself in the digital age needs to look to Bethesda. There\, in 2004\, a band formed that embraces the concept of progression not as a mere formality\, but as a commitment: Periphery. Their sound is a tectonic tremor of seven-string\, sometimes eight-string\, guitars\, a powerful five- or six-string bass\, and Spencer Sotelo’s vocals\, which oscillate between crystal-clear melody and eruptive growls. \nIt all started with Misha “Bulb” Mansoor\, a guitarist who understood early on that the internet is not an enemy\, but an amplifier. He freely uploaded songs to the internet via YouTube video blogs and MySpace demos long before streaming strategies became industry standard. The scene listened. What began as a nerdy project with a Meshuggah influence evolved into a highly precise sonic laboratory where atmosphere is just as important as rhythmic complexity. Lineup changes were almost inevitable throughout this process – from the early singer carousel to the permanent signing of Sotelo in 2010. \nTheir debut album\, “Periphery\,” brought them their breakthrough\, followed by tours and festival appearances that cemented their reputation as a technically brilliant live band. Anyone who experiences Periphery live quickly understands: this music is not an end in itself. It’s a physical experience. Three guitarists weave polyrhythmic riffs into a shimmering tapestry\, while drummer Matt Halpern balances precision and power. Supporting Dream Theater on their “A Dramatic Turn of Events” tour in Europe in 2012 made it clear how effortlessly Periphery holds their own alongside genre giants. \nLater albums like “Juggernaut: Alpha/Omega\,” “Periphery III: Select Difficulty\,” and the self-released “Periphery IV: Hail Stan” demonstrate their growing independence. After parting ways with Sumerian Records\, “Hail Stan” was released on the band’s own label\, a statement of artistic independence. With “Periphery V: Djent Is Not a Genre” (2023)\, they finally formulated a tongue-in-cheek credo: pigeonholes are convenient\, but irrelevant. \nLive\, however\, categories dissolve anyway. There\, complex structures transform into immediate energy. Riffs that seem calculated on record unfold with an almost physical urgency in a club or concert hall. Tours with bands like Animals As Leaders and The Dillinger Escape Plan have honed this dynamic. Periphery often write their songs on the road\, between soundcheck and the tour bus. \nThey will be supported in 2026 by Rain City Drive from Sacramento\, who\, since their formation in 2014 (once under a different name)\, have had a turbulent history spanning post-hardcore\, soul influences\, and personnel changes. With melodic power and emotional directness\, they add another\, no less intense dimension to the evening. \nIn the summer of 2026\, Periphery will be performing two select shows in Germany. These are evenings that will determine whether technical finesse translates into emotional power\, and where that special tension arises that only live concerts can generate: when precision meets ecstasy\, and calculated complexity transforms into a captivating\, extraordinary experience.
URL:https://barnatanko.com/event/periphery/
LOCATION:Live Music Hall\, Lichtstraße 30\, Cologne\, 50825\, Germany
CATEGORIES:Progressive Metal
ATTACH;FMTTYPE=image/webp:https://barnatanko.com/wp-content/uploads/2026/04/641392059_1338457998315443_7175227078232548998_n.webp
END:VEVENT
END:VCALENDAR