BEGIN:VCALENDAR
VERSION:2.0
PRODID:-//KonzertKult | Barna Tanko Photography - ECPv6.15.20//NONSGML v1.0//EN
CALSCALE:GREGORIAN
METHOD:PUBLISH
X-ORIGINAL-URL:https://barnatanko.com
X-WR-CALDESC:Events for KonzertKult | Barna Tanko Photography
REFRESH-INTERVAL;VALUE=DURATION:PT1H
X-Robots-Tag:noindex
X-PUBLISHED-TTL:PT1H
BEGIN:VTIMEZONE
TZID:Europe/Berlin
BEGIN:DAYLIGHT
TZOFFSETFROM:+0100
TZOFFSETTO:+0200
TZNAME:CEST
DTSTART:20250330T010000
END:DAYLIGHT
BEGIN:STANDARD
TZOFFSETFROM:+0200
TZOFFSETTO:+0100
TZNAME:CET
DTSTART:20251026T010000
END:STANDARD
BEGIN:DAYLIGHT
TZOFFSETFROM:+0100
TZOFFSETTO:+0200
TZNAME:CEST
DTSTART:20260329T010000
END:DAYLIGHT
BEGIN:STANDARD
TZOFFSETFROM:+0200
TZOFFSETTO:+0100
TZNAME:CET
DTSTART:20261025T010000
END:STANDARD
BEGIN:DAYLIGHT
TZOFFSETFROM:+0100
TZOFFSETTO:+0200
TZNAME:CEST
DTSTART:20270328T010000
END:DAYLIGHT
BEGIN:STANDARD
TZOFFSETFROM:+0200
TZOFFSETTO:+0100
TZNAME:CET
DTSTART:20271031T010000
END:STANDARD
END:VTIMEZONE
BEGIN:VEVENT
DTSTART;TZID=Europe/Berlin:20260612T190000
DTEND;TZID=Europe/Berlin:20260612T190000
DTSTAMP:20260422T183541
CREATED:20260318T145706Z
LAST-MODIFIED:20260418T141201Z
UID:11475-1781290800-1781290800@barnatanko.com
SUMMARY:Queensrÿche
DESCRIPTION:Queensrÿche + Rivers Of Nihil \nQueensrÿche is a pioneering American progressive metal band formed in 1980 in Bellevue\, Washington. Known for their technical mastery and social consciousness\, they are often cited alongside Dream Theater and Fates Warning as the “Big Three” of the genre. \nCurrent Status and New Music (as of April 2026)\nThe band is actively working on their 17th studio album\, a follow-up to 2022’s Digital Noise Alliance. \n\nNew Album Progress: Guitarist Michael Wilton confirmed they are in the “pre-production” phase with roughly 13–15 song ideas. They are once again collaborating with producer Chris “Zeuss” Harris.\nUpcoming Tour: A European tour is scheduled to begin in June 2026 in Cologne\, Germany\, featuring Rivers of Nihil as special guests.\n\nCurrent Lineup: \n\nTodd La Torre: Lead Vocals (joined 2012).\nMichael Wilton: Lead Guitar (Founding member).\nEddie Jackson: Bass (Founding member).\nMike Stone: Rhythm Guitar (Returned in 2021).\nCasey Grillo: Drums (joined officially in 2020).\n\nRivers of Nihil is an American progressive and technical death metal band from Reading\, Pennsylvania\, known for their atmospheric soundscapes and the unique incorporation of saxophone. Formed in 2009\, they are currently signed to Metal Blade Records and have evolved from a straightforward technical death metal sound into a more experimental\, “progressive” style.
URL:https://barnatanko.com/event/queensriche/
LOCATION:Essigfabrik\, Siegburger Str. 110\, Cologne\, 50579\, Germany
CATEGORIES:Progressive Metal
ATTACH;FMTTYPE=image/webp:https://barnatanko.com/wp-content/uploads/2026/04/618924307_1285044060317150_2613680889626443600_n.webp
END:VEVENT
END:VCALENDAR