BEGIN:VCALENDAR
VERSION:2.0
PRODID:-//KonzertKult | Barna Tanko Photography - ECPv6.15.20//NONSGML v1.0//EN
CALSCALE:GREGORIAN
METHOD:PUBLISH
X-ORIGINAL-URL:https://barnatanko.com
X-WR-CALDESC:Events for KonzertKult | Barna Tanko Photography
REFRESH-INTERVAL;VALUE=DURATION:PT1H
X-Robots-Tag:noindex
X-PUBLISHED-TTL:PT1H
BEGIN:VTIMEZONE
TZID:Europe/Berlin
BEGIN:DAYLIGHT
TZOFFSETFROM:+0100
TZOFFSETTO:+0200
TZNAME:CEST
DTSTART:20250330T010000
END:DAYLIGHT
BEGIN:STANDARD
TZOFFSETFROM:+0200
TZOFFSETTO:+0100
TZNAME:CET
DTSTART:20251026T010000
END:STANDARD
BEGIN:DAYLIGHT
TZOFFSETFROM:+0100
TZOFFSETTO:+0200
TZNAME:CEST
DTSTART:20260329T010000
END:DAYLIGHT
BEGIN:STANDARD
TZOFFSETFROM:+0200
TZOFFSETTO:+0100
TZNAME:CET
DTSTART:20261025T010000
END:STANDARD
BEGIN:DAYLIGHT
TZOFFSETFROM:+0100
TZOFFSETTO:+0200
TZNAME:CEST
DTSTART:20270328T010000
END:DAYLIGHT
BEGIN:STANDARD
TZOFFSETFROM:+0200
TZOFFSETTO:+0100
TZNAME:CET
DTSTART:20271031T010000
END:STANDARD
END:VTIMEZONE
BEGIN:VEVENT
DTSTART;TZID=Europe/Berlin:20260622T183000
DTEND;TZID=Europe/Berlin:20260622T183000
DTSTAMP:20260423T022757
CREATED:20260420T184026Z
LAST-MODIFIED:20260420T184808Z
UID:11604-1782153000-1782153000@barnatanko.com
SUMMARY:Malevolence
DESCRIPTION:MALEVOLENCEHARMS WAYGRIDIRONANGEL CCAA \nThe stage is set for one of the hardest and most intense hardcore metal nights of the year: MALEVOLENCE\, HARM’S WAY\, ANGEL CCAA and GRIDIRON join forces for an uncompromising live experience promising raw energy\, musical ferocity\, and captivating stage presence. \nMalevolence is an English metalcore band from Sheffield\, South Yorkshire\, formed in 2010. Known for their heavy\, distinctive sound that blends metalcore\, beatdown hardcore\, and groove metal\, the band has established a reputation for intense live performances and a “brutal” musical style. \nHarm’s Way is a prominent American hardcore punk band from Chicago\, Illinois\, formed in 2006. Known for their punishingly heavy sound that blends hardcore\, metal\, and industrial music\, the band is led by vocalist James Pligge\, whose intense stage presence and physique have become iconic in the scene. In a tragic recent development\, the band lost their longtime guitarist and HardLore podcast co-host Bo Lueders\, who passed away in early April 2026. \nGridiron is an American hardcore crossover band formed in 2020 that blends aggressive heavy metal riffs with 90s-inspired hip-op and rap vocals. \nAngel CCAA is a hardcore punk band hailing from Cologne\, Germany (often referred to as the “Domstadt”). They are known for a blistering\, “stompy” sound that they describe as “nails in the coffin”. \n 
URL:https://barnatanko.com/event/malevolence/
LOCATION:Club Volta\, Schanzenstraße 6\, Cologne\, 51063\, Germany
CATEGORIES:Hardcore,Hardcore punk,Metalcore
ATTACH;FMTTYPE=image/webp:https://barnatanko.com/wp-content/uploads/2026/04/SUMMER-SIDE-GIGS-Kopie.webp
END:VEVENT
END:VCALENDAR