BEGIN:VCALENDAR
VERSION:2.0
PRODID:-//KonzertKult | Barna Tanko Photography - ECPv6.15.20//NONSGML v1.0//EN
CALSCALE:GREGORIAN
METHOD:PUBLISH
X-WR-CALNAME:KonzertKult | Barna Tanko Photography
X-ORIGINAL-URL:https://barnatanko.com
X-WR-CALDESC:Events for KonzertKult | Barna Tanko Photography
REFRESH-INTERVAL;VALUE=DURATION:PT1H
X-Robots-Tag:noindex
X-PUBLISHED-TTL:PT1H
BEGIN:VTIMEZONE
TZID:Europe/Berlin
BEGIN:DAYLIGHT
TZOFFSETFROM:+0100
TZOFFSETTO:+0200
TZNAME:CEST
DTSTART:20250330T010000
END:DAYLIGHT
BEGIN:STANDARD
TZOFFSETFROM:+0200
TZOFFSETTO:+0100
TZNAME:CET
DTSTART:20251026T010000
END:STANDARD
BEGIN:DAYLIGHT
TZOFFSETFROM:+0100
TZOFFSETTO:+0200
TZNAME:CEST
DTSTART:20260329T010000
END:DAYLIGHT
BEGIN:STANDARD
TZOFFSETFROM:+0200
TZOFFSETTO:+0100
TZNAME:CET
DTSTART:20261025T010000
END:STANDARD
BEGIN:DAYLIGHT
TZOFFSETFROM:+0100
TZOFFSETTO:+0200
TZNAME:CEST
DTSTART:20270328T010000
END:DAYLIGHT
BEGIN:STANDARD
TZOFFSETFROM:+0200
TZOFFSETTO:+0100
TZNAME:CET
DTSTART:20271031T010000
END:STANDARD
END:VTIMEZONE
BEGIN:VEVENT
DTSTART;TZID=Europe/Berlin:20261031T200000
DTEND;TZID=Europe/Berlin:20261031T200000
DTSTAMP:20260422T133136
CREATED:20260413T104611Z
LAST-MODIFIED:20260413T104636Z
UID:11197-1793476800-1793476800@barnatanko.com
SUMMARY:Madsen
DESCRIPTION:Madsen \nFormed in 2004 in Clenze\, Germany\, Madsen is an indie-rock and punk-rock band. The band’s name comes from the three brothers who founded it—Sebastian\, Johannes\, and Sascha Madsen—along with bassist Niko Maurer
URL:https://barnatanko.com/event/madsen/
LOCATION:Palladium\, Schanzenstraße 40\, Köln\, 51063\, Germany
CATEGORIES:Indie Rock,Pop,Rock
ATTACH;FMTTYPE=image/webp:https://barnatanko.com/wp-content/uploads/2026/04/597393894_1280340570793853_3636869833841704043_n.webp
END:VEVENT
END:VCALENDAR