BEGIN:VCALENDAR
VERSION:2.0
PRODID:-//KonzertKult | Barna Tanko Photography - ECPv6.15.20//NONSGML v1.0//EN
CALSCALE:GREGORIAN
METHOD:PUBLISH
X-ORIGINAL-URL:https://barnatanko.com
X-WR-CALDESC:Events for KonzertKult | Barna Tanko Photography
REFRESH-INTERVAL;VALUE=DURATION:PT1H
X-Robots-Tag:noindex
X-PUBLISHED-TTL:PT1H
BEGIN:VTIMEZONE
TZID:Europe/Berlin
BEGIN:DAYLIGHT
TZOFFSETFROM:+0100
TZOFFSETTO:+0200
TZNAME:CEST
DTSTART:20250330T010000
END:DAYLIGHT
BEGIN:STANDARD
TZOFFSETFROM:+0200
TZOFFSETTO:+0100
TZNAME:CET
DTSTART:20251026T010000
END:STANDARD
BEGIN:DAYLIGHT
TZOFFSETFROM:+0100
TZOFFSETTO:+0200
TZNAME:CEST
DTSTART:20260329T010000
END:DAYLIGHT
BEGIN:STANDARD
TZOFFSETFROM:+0200
TZOFFSETTO:+0100
TZNAME:CET
DTSTART:20261025T010000
END:STANDARD
BEGIN:DAYLIGHT
TZOFFSETFROM:+0100
TZOFFSETTO:+0200
TZNAME:CEST
DTSTART:20270328T010000
END:DAYLIGHT
BEGIN:STANDARD
TZOFFSETFROM:+0200
TZOFFSETTO:+0100
TZNAME:CET
DTSTART:20271031T010000
END:STANDARD
END:VTIMEZONE
BEGIN:VEVENT
DTSTART;TZID=Europe/Berlin:20260618T190000
DTEND;TZID=Europe/Berlin:20260618T190000
DTSTAMP:20260422T110239
CREATED:20260415T142631Z
LAST-MODIFIED:20260415T142729Z
UID:11291-1781809200-1781809200@barnatanko.com
SUMMARY:Liam St.John
DESCRIPTION:Liam St.John \nBlending raw blues\, modern Americana\, and classic rock\, Spokane native and Nashville-based musician Liam St. John has carved out his own unique sound. With his distinctive voice\, compelling songwriting\, and high-energy live performances\, he’s garnering increasing international attention. Millions of streams and his breakthrough single “Dipped in Bleach” have established him as a name increasingly heard in the contemporary roots and Americana scene. His music combines honest storytelling with a powerful rock attitude\, effortlessly traversing blues\, Americana\, and rock. Following appearances at this year’s The Bluebird Cafe and C2C Berlin\, Liam St. John returns to Germany in the summer of 2026 for two exclusive concerts as part of his “Year of the Horse” tour.
URL:https://barnatanko.com/event/liam-st-john/
LOCATION:Die Kantine\, Neusser Landstraße 2\, Cologne\, 50735\, Germany
CATEGORIES:Country
ATTACH;FMTTYPE=image/webp:https://barnatanko.com/wp-content/uploads/2026/04/671957796_1562874525710902_3040648495288971653_n.webp
END:VEVENT
END:VCALENDAR