BEGIN:VCALENDAR
VERSION:2.0
PRODID:-//KonzertKult | Barna Tanko Photography - ECPv6.15.20//NONSGML v1.0//EN
CALSCALE:GREGORIAN
METHOD:PUBLISH
X-ORIGINAL-URL:https://barnatanko.com
X-WR-CALDESC:Events for KonzertKult | Barna Tanko Photography
REFRESH-INTERVAL;VALUE=DURATION:PT1H
X-Robots-Tag:noindex
X-PUBLISHED-TTL:PT1H
BEGIN:VTIMEZONE
TZID:Europe/Berlin
BEGIN:DAYLIGHT
TZOFFSETFROM:+0100
TZOFFSETTO:+0200
TZNAME:CEST
DTSTART:20250330T010000
END:DAYLIGHT
BEGIN:STANDARD
TZOFFSETFROM:+0200
TZOFFSETTO:+0100
TZNAME:CET
DTSTART:20251026T010000
END:STANDARD
BEGIN:DAYLIGHT
TZOFFSETFROM:+0100
TZOFFSETTO:+0200
TZNAME:CEST
DTSTART:20260329T010000
END:DAYLIGHT
BEGIN:STANDARD
TZOFFSETFROM:+0200
TZOFFSETTO:+0100
TZNAME:CET
DTSTART:20261025T010000
END:STANDARD
BEGIN:DAYLIGHT
TZOFFSETFROM:+0100
TZOFFSETTO:+0200
TZNAME:CEST
DTSTART:20270328T010000
END:DAYLIGHT
BEGIN:STANDARD
TZOFFSETFROM:+0200
TZOFFSETTO:+0100
TZNAME:CET
DTSTART:20271031T010000
END:STANDARD
END:VTIMEZONE
BEGIN:VEVENT
DTSTART;TZID=Europe/Berlin:20261206T200000
DTEND;TZID=Europe/Berlin:20261206T200000
DTSTAMP:20260425T155029
CREATED:20260413T102321Z
LAST-MODIFIED:20260413T102437Z
UID:11187-1796587200-1796587200@barnatanko.com
SUMMARY:Kid Kapichi
DESCRIPTION:Kid Kapichi \nKid Kapichi belongs to a new generation of punk bands who aren’t afraid to weave political activism into their sound; on the contrary\, a trademark of the quartet is their unflinching use of their raw songs to hold up an unvarnished mirror to society. This is one of many reasons why the Hastings-based group is considered one of the most important up-and-coming British bands in their genre. Formed during the Covid pandemic\, it’s no wonder that Kid Kapichi have displayed an unparalleled anger and intensity since their self-produced debut album\, “This Time Next Year.” Their subsequent album\, “Here’s What You Could Have Won\,” released in 2022\, brought them their breakthrough in the UK indie and punk scene\, where\, in addition to their raw\, uncompromising punk sound\, Kid Kapichi were celebrated above all for the political message in their songs. Whether it’s Brexit\, social inequality\, or the general frustration that regularly plagues people in light of the state of the world – the band addresses in their songs exactly what’s on their minds and those around them. \nWith their new album\, “Fearless Nature\,” Kid Kapichi are breaking new ground for the first time. This might seem logical given the change in the band’s lineup\, but the British band is ushering in a new era not only in their personnel. While the quartet’s previous works were dominated by stories and observations of other people and social issues\, singer Jack Wilson offers a glimpse into his inner world for the first time on “Fearless Nature.” The sharp and powerful instrumentals remain\, but they are complemented by more mature\, reflective lyrics from the singer’s inner life\, revealing an authentic vulnerability surrounding the topic of mental health. However\, those who have followed the band for some time know that the title of their fourth album\, “Fearless Nature\,” is not a coincidence. Since their inception\, the British band has proven themselves to be true\, fearless forces of nature. This quality is especially evident in their live performances. Concerts have always been central to the band’s life\, with Kid Kapichi known for their boundless energy and extremely intense sets. Anyone wanting to experience this for themselves will have five opportunities to do so at the end of the year during their “Down The Rabbit Hole” tour in Germany.
URL:https://barnatanko.com/event/kid-kapichi/
LOCATION:Gebaude 9\, Deutz-Mülheimer Str. 117\, Cologne\, 51063\, Germany
CATEGORIES:Punk
ATTACH;FMTTYPE=image/webp:https://barnatanko.com/wp-content/uploads/2026/04/656251058_1364877742340135_1061447865661025404_n.webp
END:VEVENT
END:VCALENDAR