BEGIN:VCALENDAR
VERSION:2.0
PRODID:-//KonzertKult | Barna Tanko Photography - ECPv6.15.20//NONSGML v1.0//EN
CALSCALE:GREGORIAN
METHOD:PUBLISH
X-ORIGINAL-URL:https://barnatanko.com
X-WR-CALDESC:Events for KonzertKult | Barna Tanko Photography
REFRESH-INTERVAL;VALUE=DURATION:PT1H
X-Robots-Tag:noindex
X-PUBLISHED-TTL:PT1H
BEGIN:VTIMEZONE
TZID:Europe/Berlin
BEGIN:DAYLIGHT
TZOFFSETFROM:+0100
TZOFFSETTO:+0200
TZNAME:CEST
DTSTART:20250330T010000
END:DAYLIGHT
BEGIN:STANDARD
TZOFFSETFROM:+0200
TZOFFSETTO:+0100
TZNAME:CET
DTSTART:20251026T010000
END:STANDARD
BEGIN:DAYLIGHT
TZOFFSETFROM:+0100
TZOFFSETTO:+0200
TZNAME:CEST
DTSTART:20260329T010000
END:DAYLIGHT
BEGIN:STANDARD
TZOFFSETFROM:+0200
TZOFFSETTO:+0100
TZNAME:CET
DTSTART:20261025T010000
END:STANDARD
BEGIN:DAYLIGHT
TZOFFSETFROM:+0100
TZOFFSETTO:+0200
TZNAME:CEST
DTSTART:20270328T010000
END:DAYLIGHT
BEGIN:STANDARD
TZOFFSETFROM:+0200
TZOFFSETTO:+0100
TZNAME:CET
DTSTART:20271031T010000
END:STANDARD
END:VTIMEZONE
BEGIN:VEVENT
DTSTART;TZID=Europe/Berlin:20260925T100000
DTEND;TZID=Europe/Berlin:20260927T230000
DTSTAMP:20260422T213404
CREATED:20260314T193916Z
LAST-MODIFIED:20260417T182734Z
UID:11270-1790330400-1790550000@barnatanko.com
SUMMARY:Euroblast Festival Essigfabrik Köln 2026
DESCRIPTION:Euroblast Festival\, 25.09.– 27.09.25\,  Essigfabrik\, Köln \nThe Euroblast Festival 2026 is scheduled to take place from September 25 to September 27\, 2026. This edition marks the 20th anniversary of the festival\, which is a premier indoor event dedicated to progressive metal and experimental music. \nAtmosphere: Known for its intimate community vibe\, the festival typically features over 40 international artists across two stages. \nFrom the organizers:  \n“Our vision: \nThe Euroblast is home for everyone for whom music is more than just sliced bread at the counter. Here progressive sounds are baked by hand and served hot in the ear. Together with like-minded people you reaffirm each other: Yes\, this IS the coolest music. \nWith alumni like Meshuggah\, Devin Townsend\, Animals As Leaders\, Textures\, Sikth and 380+ more bands under our hood\, we’re moving out again to select more than 40 of the finest known and unknown national and international bands for our next edition. \nWe are extremely proud that the Euroblast Festival has already provided a stage for many of the first performances by now more well-known artists. Bands like Uneven Structure\, Aliases\, Destiny Potato and The Algorithm and many more have taken their first steps on our stage. \nWe are curious\, excited and determined to discover new artists again this year and to welcome them to us.” \nThe 2026 lineup features several prominent headliners and emerging acts within the progressive scene: \nFriday (Sep 25) \nHeadliner: Textures \nOther notable bands: Humanity’s Last Breath\, Agent Fresco\, Gorod \nSaturday (Sep 26) \nHeadliner: Decapitated \nOther notable bands: The Dear Hunter\, Vildhjarta\, Allegaeon \nSunday (Sept 27) \nHeadliner: Haken \nOther notable bands: Einar Solberg\, Swallow the Sun\, Iotunn \nOther confirmed bands include: \nAnciients\, DALI FR\, Fractal Sun\, Alkera\, Panzerballett (featuring Virgil Donati)\, Enterprise Earth\, The Reticent\, Seven Blood\, Seething Akira\, The Broken Horizon\, and Interra. \n  \n\n 
URL:https://barnatanko.com/event/euroblast-festival-essigfabrik-koln-2026/
LOCATION:Essigfabrik\, Siegburger Str. 110\, Cologne\, 50579\, Germany
CATEGORIES:Music Festival
ATTACH;FMTTYPE=image/webp:https://barnatanko.com/wp-content/uploads/2026/04/26-09-25-Euroblast-Festival.webp
END:VEVENT
END:VCALENDAR