BEGIN:VCALENDAR
VERSION:2.0
PRODID:-//KonzertKult | Barna Tanko Photography - ECPv6.15.20//NONSGML v1.0//EN
CALSCALE:GREGORIAN
METHOD:PUBLISH
X-WR-CALNAME:KonzertKult | Barna Tanko Photography
X-ORIGINAL-URL:https://barnatanko.com
X-WR-CALDESC:Events for KonzertKult | Barna Tanko Photography
REFRESH-INTERVAL;VALUE=DURATION:PT1H
X-Robots-Tag:noindex
X-PUBLISHED-TTL:PT1H
BEGIN:VTIMEZONE
TZID:Europe/Berlin
BEGIN:DAYLIGHT
TZOFFSETFROM:+0100
TZOFFSETTO:+0200
TZNAME:CEST
DTSTART:20250330T010000
END:DAYLIGHT
BEGIN:STANDARD
TZOFFSETFROM:+0200
TZOFFSETTO:+0100
TZNAME:CET
DTSTART:20251026T010000
END:STANDARD
BEGIN:DAYLIGHT
TZOFFSETFROM:+0100
TZOFFSETTO:+0200
TZNAME:CEST
DTSTART:20260329T010000
END:DAYLIGHT
BEGIN:STANDARD
TZOFFSETFROM:+0200
TZOFFSETTO:+0100
TZNAME:CET
DTSTART:20261025T010000
END:STANDARD
BEGIN:DAYLIGHT
TZOFFSETFROM:+0100
TZOFFSETTO:+0200
TZNAME:CEST
DTSTART:20270328T010000
END:DAYLIGHT
BEGIN:STANDARD
TZOFFSETFROM:+0200
TZOFFSETTO:+0100
TZNAME:CET
DTSTART:20271031T010000
END:STANDARD
END:VTIMEZONE
BEGIN:VEVENT
DTSTART;TZID=Europe/Berlin:20260516T190000
DTEND;TZID=Europe/Berlin:20260516T190000
DTSTAMP:20260424T133417
CREATED:20260201T201905Z
LAST-MODIFIED:20260217T151308Z
UID:7743-1778958000-1778958000@barnatanko.com
SUMMARY:BENJAMIN STEER
DESCRIPTION:Genre: Indie \nSpecial guest: sister duo Dolder \nThe Not-So-Nonchalant Tour – 2026\nBenjamin Steer is one of the most exciting newcomers in the acoustic pop and indie scene. With his sensitive songwriting about love\, insecurity\, and growing up\, he already reaches over 1.4 million monthly active listeners on Spotify. After performing at this year’s Reeperbahn Festival in Hamburg\, as well as supporting Cameron Whitcomb and appearing at Sound of Nashville Open Air\, he returns in 2026 for two exclusive German concerts as part of his “The Not-So-Nonchalant Tour.” \nBenjamin grew up between the UK and the USA. From an early age\, he began transforming his thoughts and feelings into songs using his guitar and voice. Musically\, he draws inspiration from the early works of Ed Sheeran\, Myles Smith\, and Mackenzy Mackay\, as well as contemporaries like Michael Sanzone and Thomas Day. From this\, he has developed a sound that combines soulful acoustics with a modern pop atmosphere and blends personal stories with catchy melodies. \nIn 2025\, Benjamin Steer released his EP “Figuring It Out\,” which showcases his reflective and personal perspective on the highs and lows of young relationships. Along with subsequent EPs and songs like “No One Wants To Die Alone\,” “Sinner\,” and “You\,” he reached a wide audience and garnered millions of streams. These releases highlight his talent for transforming personal experiences into touching and relatable stories. Rolling Stone UK praised his ability to convey intimate emotions with humor and precision\, hailing him as one of the most promising singer-songwriters of his generation. \nLive\, Benjamin Steer captivates audiences as a storyteller and performer. He transforms each concert into an intense experience where his voice\, stage presence\, and the stories behind his songs resonate deeply with the audience. Supporting artists such as Myles Smith\, Calum Bowie\, Kingfisher\, Kerr Mercer\, Arthur Hill\, and AJR has demonstrated his ability to blend emotion\, humor\, and musical precision to create unforgettable performances. \nIn 2026\, Benjamin Steer returns to Germany for two exclusive concerts. He will present his most successful songs as well as new pieces in a captivating yet intimate atmosphere. The concerts promise intense musical moments\, humorous interludes\, and touching stories that the audience can experience up close.
URL:https://barnatanko.com/event/benjamin-steer/
LOCATION:Helios 37\, Heliosstraße 37\, Cologne\, 50825\, Germany
CATEGORIES:Country,Indie Rock
ATTACH;FMTTYPE=image/jpeg:https://barnatanko.com/wp-content/uploads/2025/12/benjami-steer-Large.jpeg
END:VEVENT
END:VCALENDAR