BEGIN:VCALENDAR
VERSION:2.0
PRODID:-//KonzertKult | Barna Tanko Photography - ECPv6.15.20//NONSGML v1.0//EN
CALSCALE:GREGORIAN
METHOD:PUBLISH
X-WR-CALNAME:KonzertKult | Barna Tanko Photography
X-ORIGINAL-URL:https://barnatanko.com
X-WR-CALDESC:Events for KonzertKult | Barna Tanko Photography
REFRESH-INTERVAL;VALUE=DURATION:PT1H
X-Robots-Tag:noindex
X-PUBLISHED-TTL:PT1H
BEGIN:VTIMEZONE
TZID:Europe/Berlin
BEGIN:DAYLIGHT
TZOFFSETFROM:+0100
TZOFFSETTO:+0200
TZNAME:CEST
DTSTART:20250330T010000
END:DAYLIGHT
BEGIN:STANDARD
TZOFFSETFROM:+0200
TZOFFSETTO:+0100
TZNAME:CET
DTSTART:20251026T010000
END:STANDARD
BEGIN:DAYLIGHT
TZOFFSETFROM:+0100
TZOFFSETTO:+0200
TZNAME:CEST
DTSTART:20260329T010000
END:DAYLIGHT
BEGIN:STANDARD
TZOFFSETFROM:+0200
TZOFFSETTO:+0100
TZNAME:CET
DTSTART:20261025T010000
END:STANDARD
BEGIN:DAYLIGHT
TZOFFSETFROM:+0100
TZOFFSETTO:+0200
TZNAME:CEST
DTSTART:20270328T010000
END:DAYLIGHT
BEGIN:STANDARD
TZOFFSETFROM:+0200
TZOFFSETTO:+0100
TZNAME:CET
DTSTART:20271031T010000
END:STANDARD
END:VTIMEZONE
BEGIN:VEVENT
DTSTART;TZID=Europe/Berlin:20260506T200000
DTEND;TZID=Europe/Berlin:20260506T200000
DTSTAMP:20260422T175419
CREATED:20260222T093035Z
LAST-MODIFIED:20260422T090350Z
UID:11661-1778097600-1778097600@barnatanko.com
SUMMARY:ROBERT JON & THE WRECK – „Heartbreaks & Last Goodbyes“ – Tour 2026
DESCRIPTION:ROBERT JON & THE WRECK – „Heartbreaks & Last Goodbyes“ – Tour 2026 \nRobert Jon & The Wreck is an American five-piece blues rock and Southern rock band originally formed in 2011 in Orange County\, California. Led by frontman Robert Jon Burrison\, the band is well-regarded for their soulful harmonies\, blistering guitar solos\, and high-energy live performances. \nBand Members\nThe current lineup typically includes: \n\nRobert Jon Burrison: Lead Vocals / Guitar\nAndrew Espantman: Drums / Vocals\nHenry James: Lead Guitar / Vocals\nWarren Murrel: Bass / Vocals\nJake Abernathie: Keyboards (joined in 2023\, succeeding Steve Maggiora)\n\nDiscography Highlights\nThe band has a prolific release schedule\, frequently putting out new studio and live recordings. \n\nHeartbreaks & Last Goodbyes (2025): Their latest studio album\, produced by Dave Cobb\, featuring singles like “Run Back To Me” and “Dark Angel”.\nRed Moon Rising (2024): Produced by Kevin Shirley\, this album was hailed as a “masterclass in modern rock & roll with vintage soul”.\nRide into the Light (2023): A key release featuring various high-profile producers.\nShine a Light on Me Brother (2021): Widely considered one of their breakout works\, receiving critical acclaim for its songwriting and production.\n\nPopular Songs\nBased on streaming and performance data from platforms like Spotify and YouTube\, some of their most recognized tracks include:\n\n“Oh Miss Carolina”\n“Shine a Light on Me Brother”\n“Do You Remember”\n“Run Back To Me”\n“Cold Night”
URL:https://barnatanko.com/event/robert-jon-the-wreck-heartbreaks-last-goodbyes-tour-2026/
LOCATION:Harmonie\, Frongasse 28-30\, 53121\, Bonn\, 53121\, Germany
CATEGORIES:Rock,Southern Rock
ATTACH;FMTTYPE=image/webp:https://barnatanko.com/wp-content/uploads/2026/04/670910608_1632466211796382_1817344726127437111_n.webp
END:VEVENT
END:VCALENDAR