BEGIN:VCALENDAR
VERSION:2.0
PRODID:-//KonzertKult | Barna Tanko Photography - ECPv6.15.20//NONSGML v1.0//EN
CALSCALE:GREGORIAN
METHOD:PUBLISH
X-ORIGINAL-URL:https://barnatanko.com
X-WR-CALDESC:Events for KonzertKult | Barna Tanko Photography
REFRESH-INTERVAL;VALUE=DURATION:PT1H
X-Robots-Tag:noindex
X-PUBLISHED-TTL:PT1H
BEGIN:VTIMEZONE
TZID:Europe/Berlin
BEGIN:DAYLIGHT
TZOFFSETFROM:+0100
TZOFFSETTO:+0200
TZNAME:CEST
DTSTART:20250330T010000
END:DAYLIGHT
BEGIN:STANDARD
TZOFFSETFROM:+0200
TZOFFSETTO:+0100
TZNAME:CET
DTSTART:20251026T010000
END:STANDARD
BEGIN:DAYLIGHT
TZOFFSETFROM:+0100
TZOFFSETTO:+0200
TZNAME:CEST
DTSTART:20260329T010000
END:DAYLIGHT
BEGIN:STANDARD
TZOFFSETFROM:+0200
TZOFFSETTO:+0100
TZNAME:CET
DTSTART:20261025T010000
END:STANDARD
BEGIN:DAYLIGHT
TZOFFSETFROM:+0100
TZOFFSETTO:+0200
TZNAME:CEST
DTSTART:20270328T010000
END:DAYLIGHT
BEGIN:STANDARD
TZOFFSETFROM:+0200
TZOFFSETTO:+0100
TZNAME:CET
DTSTART:20271031T010000
END:STANDARD
END:VTIMEZONE
BEGIN:VEVENT
DTSTART;TZID=Europe/Berlin:20260823T190000
DTEND;TZID=Europe/Berlin:20260823T190000
DTSTAMP:20260424T203455
CREATED:20260213T145330Z
LAST-MODIFIED:20260213T150220Z
UID:8205-1787511600-1787511600@barnatanko.com
SUMMARY:The Boss Hoss
DESCRIPTION:The BossHoss is a German band from Berlin\, founded in 2004. They originally started with country and western style cover versions of famous pop\, rock and hip hop songs\, for example “Hot in Herre” by Nelly\, “Toxic” by Britney Spears and “Hey Ya!” by Outkast. They incorporate stereotypical American cowboy behavior into their act; they wear Stetson hats\, tank tops and large sunglasses\, and display whiskey bottles. The band refers to their music style as “Country Trash Punk Rock.” \n  \nBUY TICKETS\n 
URL:https://barnatanko.com/event/the-boss-hoss/
LOCATION:Kunstrasen\, Charles-de-Gaulle-Straße\, Bonn\, 53113\, Germany
CATEGORIES:Country,Pop
ATTACH;FMTTYPE=image/jpeg:https://barnatanko.com/wp-content/uploads/2025/11/The-BossHoss-Back-To-The-Boots-Sommer-2026-SMALL.jpg
END:VEVENT
END:VCALENDAR