BEGIN:VCALENDAR
VERSION:2.0
PRODID:-//KonzertKult | Barna Tanko Photography - ECPv6.15.20//NONSGML v1.0//EN
CALSCALE:GREGORIAN
METHOD:PUBLISH
X-ORIGINAL-URL:https://barnatanko.com
X-WR-CALDESC:Events for KonzertKult | Barna Tanko Photography
REFRESH-INTERVAL;VALUE=DURATION:PT1H
X-Robots-Tag:noindex
X-PUBLISHED-TTL:PT1H
BEGIN:VTIMEZONE
TZID:Europe/Berlin
BEGIN:DAYLIGHT
TZOFFSETFROM:+0100
TZOFFSETTO:+0200
TZNAME:CEST
DTSTART:20250330T010000
END:DAYLIGHT
BEGIN:STANDARD
TZOFFSETFROM:+0200
TZOFFSETTO:+0100
TZNAME:CET
DTSTART:20251026T010000
END:STANDARD
BEGIN:DAYLIGHT
TZOFFSETFROM:+0100
TZOFFSETTO:+0200
TZNAME:CEST
DTSTART:20260329T010000
END:DAYLIGHT
BEGIN:STANDARD
TZOFFSETFROM:+0200
TZOFFSETTO:+0100
TZNAME:CET
DTSTART:20261025T010000
END:STANDARD
BEGIN:DAYLIGHT
TZOFFSETFROM:+0100
TZOFFSETTO:+0200
TZNAME:CEST
DTSTART:20270328T010000
END:DAYLIGHT
BEGIN:STANDARD
TZOFFSETFROM:+0200
TZOFFSETTO:+0100
TZNAME:CET
DTSTART:20271031T010000
END:STANDARD
END:VTIMEZONE
BEGIN:VEVENT
DTSTART;TZID=Europe/Berlin:20260628T200000
DTEND;TZID=Europe/Berlin:20260628T200000
DTSTAMP:20260424T165507
CREATED:20260213T143012Z
LAST-MODIFIED:20260318T203118Z
UID:8196-1782676800-1782676800@barnatanko.com
SUMMARY:Cory Wong
DESCRIPTION:Cory Wong is a Grammy-nominated guitarist\, composer\, and producer celebrated for his explosive live energy\, razor-sharp funk grooves\, and boundary-pushing collaborations across genres. Known for blending the technical precision of jazz with the infectious spirit of funk\, pop\, and soul\, Wong has carved out a singular space as one of modern music’s most dynamic and joyful performers. \nA Minneapolis native\, Cory first rose to international prominence through his work with Vulfpeck\, where his rhythmic guitar playing and magnetic stage presence helped define the band’s sound and live aesthetic. He’s since built a prolific solo career\, releasing a steady stream of albums that showcase his unmatched versatility from horn-driven funk and instrumental fusion to expansive collaborations with artists including Jon Batiste\, The Jonas Brothers\, Bruce Hornsby\, Chromeo\, Billy Strings\, Victor Wooten\, and more. \nOn stage\, Cory Wong’s shows are a celebration of musicianship and connection\, equal parts precision\, humor\, and unbridled joy. His live performances with the Cory Wong Band and the Fearless Flyers have become must-see events for music lovers\, guitar enthusiasts\, and groove seekers alike. \nBeyond his work as a performer\, Wong has established himself as a visionary collaborator and creative force in the modern music landscape. His projects often extend into visual and digital storytelling including his self-produced variety series The Wongnotes\, and his work as host of the Wong Notes Podcast\, where he explores creativity and craft with fellow artists. \nWhether playing sold-out shows around the world\, producing albums for others\, or crafting his ever-growing catalog of original music\, Cory Wong continues to bring a sense of positivity\, playfulness\, and purpose to everything he creates. \n  \nBUY TICKETS\n 
URL:https://barnatanko.com/event/cory-wong/
LOCATION:Carlswerk Victoria\, Schanzenstraße 6-20\, Cologne\, 51063\, Germany
CATEGORIES:Funk,Pop,Rock
ATTACH;FMTTYPE=image/jpeg:https://barnatanko.com/wp-content/uploads/2026/02/Cory-Wong.jpg
END:VEVENT
END:VCALENDAR