BEGIN:VCALENDAR
VERSION:2.0
PRODID:-//KonzertKult | Barna Tanko Photography - ECPv6.15.20//NONSGML v1.0//EN
CALSCALE:GREGORIAN
METHOD:PUBLISH
X-WR-CALNAME:KonzertKult | Barna Tanko Photography
X-ORIGINAL-URL:https://barnatanko.com
X-WR-CALDESC:Events for KonzertKult | Barna Tanko Photography
REFRESH-INTERVAL;VALUE=DURATION:PT1H
X-Robots-Tag:noindex
X-PUBLISHED-TTL:PT1H
BEGIN:VTIMEZONE
TZID:Europe/Berlin
BEGIN:DAYLIGHT
TZOFFSETFROM:+0100
TZOFFSETTO:+0200
TZNAME:CEST
DTSTART:20250330T010000
END:DAYLIGHT
BEGIN:STANDARD
TZOFFSETFROM:+0200
TZOFFSETTO:+0100
TZNAME:CET
DTSTART:20251026T010000
END:STANDARD
BEGIN:DAYLIGHT
TZOFFSETFROM:+0100
TZOFFSETTO:+0200
TZNAME:CEST
DTSTART:20260329T010000
END:DAYLIGHT
BEGIN:STANDARD
TZOFFSETFROM:+0200
TZOFFSETTO:+0100
TZNAME:CET
DTSTART:20261025T010000
END:STANDARD
BEGIN:DAYLIGHT
TZOFFSETFROM:+0100
TZOFFSETTO:+0200
TZNAME:CEST
DTSTART:20270328T010000
END:DAYLIGHT
BEGIN:STANDARD
TZOFFSETFROM:+0200
TZOFFSETTO:+0100
TZNAME:CET
DTSTART:20271031T010000
END:STANDARD
END:VTIMEZONE
BEGIN:VEVENT
DTSTART;TZID=Europe/Berlin:20260802T200000
DTEND;TZID=Europe/Berlin:20260802T200000
DTSTAMP:20260422T000513
CREATED:20260329T102112Z
LAST-MODIFIED:20260329T102332Z
UID:10368-1785700800-1785700800@barnatanko.com
SUMMARY:Arch Enemy - Back To The Root Of All Evil
DESCRIPTION:Arch Enemy – Back To The Root Of All Evil \n  \n\n 
URL:https://barnatanko.com/event/arch-enemy-back-to-the-root-of-all-evil/
LOCATION:Club Volta\, Schanzenstraße 6\, Cologne\, 51063\, Germany
CATEGORIES:Heavy Metal
ATTACH;FMTTYPE=image/png:https://barnatanko.com/wp-content/uploads/2026/03/Arch-Enemy.png
END:VEVENT
BEGIN:VEVENT
DTSTART;TZID=Europe/Berlin:20260812T100000
DTEND;TZID=Europe/Berlin:20260812T100000
DTSTAMP:20260422T000513
CREATED:20260311T150246Z
LAST-MODIFIED:20260311T150343Z
UID:9387-1786528800-1786528800@barnatanko.com
SUMMARY:Summer Breeze Festival 2026
DESCRIPTION:Summer Breeze Festival 2026 \nAugust 12-15\, 2026 \n  \n\n  \n 
URL:https://barnatanko.com/event/summer-breeze-festival-2026/
LOCATION:Summer Breeze Festival\, Summer-Breeze-Weg 1\, Abtsgmuend\, 73453\, Germany
CATEGORIES:Alternative Rock,Hard Rock,Heavy Metal,Indie Rock,Punk,Rock
ATTACH;FMTTYPE=image/jpeg:https://barnatanko.com/wp-content/uploads/2026/03/Summer-Breeze.jpg
END:VEVENT
BEGIN:VEVENT
DTSTART;TZID=Europe/Berlin:20260813T173000
DTEND;TZID=Europe/Berlin:20260813T173000
DTSTAMP:20260422T000513
CREATED:20260213T145821Z
LAST-MODIFIED:20260404T171326Z
UID:8207-1786642200-1786642200@barnatanko.com
SUMMARY:Savatage
DESCRIPTION:Savatage is an American heavy metal band founded by brothers Jon and Criss Oliva in 1979 in Tarpon Springs\, Florida. The band was first called Avatar\, but\, shortly before the release of their debut album Sirens (1983)\,they changed their name to Savatage\, as Avatar was already taken by at least one other band. Savatage is considered to be an integral part of the American heavy metal movement of the early-to-mid-1980s and has been cited as a key influence on numerous metal genres. The band has released eleven studio albums\, two live albums\, five compilations and three EPs. \n  \nBUY TICKETS\n  \n\n 
URL:https://barnatanko.com/event/savatage-2/
LOCATION:Kunstrasen\, Charles-de-Gaulle-Straße\, Bonn\, 53113\, Germany
CATEGORIES:Heavy Metal
ATTACH;FMTTYPE=image/jpeg:https://barnatanko.com/wp-content/uploads/2026/02/612199737_1299691572193137_5143557206150021810_n.jpg
END:VEVENT
END:VCALENDAR