BEGIN:VCALENDAR
VERSION:2.0
PRODID:-//KonzertKult | Barna Tanko Photography - ECPv6.15.20//NONSGML v1.0//EN
CALSCALE:GREGORIAN
METHOD:PUBLISH
X-WR-CALNAME:KonzertKult | Barna Tanko Photography
X-ORIGINAL-URL:https://barnatanko.com
X-WR-CALDESC:Events for KonzertKult | Barna Tanko Photography
REFRESH-INTERVAL;VALUE=DURATION:PT1H
X-Robots-Tag:noindex
X-PUBLISHED-TTL:PT1H
BEGIN:VTIMEZONE
TZID:Europe/Berlin
BEGIN:DAYLIGHT
TZOFFSETFROM:+0100
TZOFFSETTO:+0200
TZNAME:CEST
DTSTART:20250330T010000
END:DAYLIGHT
BEGIN:STANDARD
TZOFFSETFROM:+0200
TZOFFSETTO:+0100
TZNAME:CET
DTSTART:20251026T010000
END:STANDARD
BEGIN:DAYLIGHT
TZOFFSETFROM:+0100
TZOFFSETTO:+0200
TZNAME:CEST
DTSTART:20260329T010000
END:DAYLIGHT
BEGIN:STANDARD
TZOFFSETFROM:+0200
TZOFFSETTO:+0100
TZNAME:CET
DTSTART:20261025T010000
END:STANDARD
BEGIN:DAYLIGHT
TZOFFSETFROM:+0100
TZOFFSETTO:+0200
TZNAME:CEST
DTSTART:20270328T010000
END:DAYLIGHT
BEGIN:STANDARD
TZOFFSETFROM:+0200
TZOFFSETTO:+0100
TZNAME:CET
DTSTART:20271031T010000
END:STANDARD
END:VTIMEZONE
BEGIN:VEVENT
DTSTART;TZID=Europe/Berlin:20260306T190000
DTEND;TZID=Europe/Berlin:20260306T190000
DTSTAMP:20260422T152509
CREATED:20260303T110445Z
LAST-MODIFIED:20260303T110740Z
UID:8920-1772823600-1772823600@barnatanko.com
SUMMARY:Avatar
DESCRIPTION:AVATAR – A NIGHT TO BE TORN APART \nwith support: ALIEN WEAPONRY \nAvatar is a Swedish heavy metal band\, formed in Mölndal in 2001. The band has released ten studio albums\, with the most recent\, Don’t Go in the Forest\, released in late October 2025. \nAvatar are a staple of every metal record collection! For over 20 years\, the Swedish band has been exploring the dark soul of alternative and melodic death metal with consistent success. With their tenth album\, Avatar will be touring Germany\, supported by Alien Weaponry! \n  \nBUY TICKETS\n 
URL:https://barnatanko.com/event/avatar/
LOCATION:E-Werk\, Schanzenstraße 37\, Cologne\, 51063\, Germany
CATEGORIES:Heavy Metal
ATTACH;FMTTYPE=image/jpeg:https://barnatanko.com/wp-content/uploads/2026/03/Avatar.jpg
END:VEVENT
BEGIN:VEVENT
DTSTART;TZID=Europe/Berlin:20260307T190000
DTEND;TZID=Europe/Berlin:20260307T190000
DTSTAMP:20260422T152509
CREATED:20260301T155831Z
LAST-MODIFIED:20260301T161139Z
UID:8888-1772910000-1772910000@barnatanko.com
SUMMARY:Lost Society
DESCRIPTION:Lost Society \nSupport: Awake Again
URL:https://barnatanko.com/event/lost-society/
LOCATION:Gebaude 9\, Deutz-Mülheimer Str. 117\, Cologne\, 51063\, Germany
CATEGORIES:Heavy Metal
ATTACH;FMTTYPE=image/jpeg:https://barnatanko.com/wp-content/uploads/2026/03/Lost-Society.jpg
END:VEVENT
BEGIN:VEVENT
DTSTART;TZID=Europe/Berlin:20260312T193000
DTEND;TZID=Europe/Berlin:20260312T193000
DTSTAMP:20260422T152509
CREATED:20260301T155406Z
LAST-MODIFIED:20260301T155548Z
UID:8885-1773343800-1773343800@barnatanko.com
SUMMARY:Edenbridge
DESCRIPTION:Edenbridge – Kubana \nSupports: \nFlowerleaf and Miracleflair \n 
URL:https://barnatanko.com/event/edenbridge/
LOCATION:Kubana\, Zeithstraße 100\, Siegburg\, 53721\, Germany
CATEGORIES:Heavy Metal,Rock
ATTACH;FMTTYPE=image/jpeg:https://barnatanko.com/wp-content/uploads/2026/03/Edenbridge.jpg
END:VEVENT
BEGIN:VEVENT
DTSTART;TZID=Europe/Berlin:20260322T200000
DTEND;TZID=Europe/Berlin:20260322T200000
DTSTAMP:20260422T152509
CREATED:20260213T163044Z
LAST-MODIFIED:20260313T163855Z
UID:9487-1774209600-1774209600@barnatanko.com
SUMMARY:The Gems
DESCRIPTION:The Gems with support: King Zebra & Mia Karlsson \nAfter rising from the ashes of Thundermother with their powerful debut album Phoenix (2024) and the recent single “Live And Let Go\,” THE GEMS are taking their next step into the “Year Of The Snake.” The Swedish trio\, who have established themselves as a major new force in modern hard rock\, offer a powerful taste of what’s to come with their latest single: a catchy showstopper accompanied by bluesy vocals and heavy riffs that will instantly get you dancing. THE GEMS are looking to the future! \nTHE GEMS on “Year Of The Snake”: \n“2025 is the Year of the Snake and is all about transformation\, renewal\, and wisdom. It’s a time that encourages us to approach life’s changes thoughtfully and shed old habits—like a snake shedding its skin. This song is about all of these things\, wrapped in a very classic heavy metal sound.” \n“` Rock sensation THE GEMS consists of three former Thundermother members: the incomparable vocalist Guernica Mancini\, drum powerhouse Emlee Johansson\, and guitar and bass virtuoso Mona Lindgren. With their previous band\, the three musicians of THE GEMS have already graced the stages of major festivals such as Wacken Open Air and Sweden Rock Festival\, and even toured with the mighty Scorpions. The new band\, formed in 2023\, impressed with their exceptionally anthemic debut album\, Phoenix\, as well as with shows across Europe\, where they captivated audiences with their impressive live energy. \nOn their upcoming “Slithering Through Europe” headlining tour\, the trio will once again demonstrate their ability to thrill rock fans. They will be supported across Europe by the Swiss band King Zebra. \n  \n\n  \n\n 
URL:https://barnatanko.com/event/the-gems/
LOCATION:Club Volta\, Schanzenstraße 6\, Cologne\, 51063\, Germany
CATEGORIES:Hard Rock,Heavy Metal
ATTACH;FMTTYPE=image/jpeg:https://barnatanko.com/wp-content/uploads/2026/03/The-Gems.jpg
END:VEVENT
END:VCALENDAR