BEGIN:VCALENDAR
VERSION:2.0
PRODID:-//KonzertKult | Barna Tanko Photography - ECPv6.15.20//NONSGML v1.0//EN
CALSCALE:GREGORIAN
METHOD:PUBLISH
X-ORIGINAL-URL:https://barnatanko.com
X-WR-CALDESC:Events for KonzertKult | Barna Tanko Photography
REFRESH-INTERVAL;VALUE=DURATION:PT1H
X-Robots-Tag:noindex
X-PUBLISHED-TTL:PT1H
BEGIN:VTIMEZONE
TZID:Europe/Berlin
BEGIN:DAYLIGHT
TZOFFSETFROM:+0100
TZOFFSETTO:+0200
TZNAME:CEST
DTSTART:20250330T010000
END:DAYLIGHT
BEGIN:STANDARD
TZOFFSETFROM:+0200
TZOFFSETTO:+0100
TZNAME:CET
DTSTART:20251026T010000
END:STANDARD
BEGIN:DAYLIGHT
TZOFFSETFROM:+0100
TZOFFSETTO:+0200
TZNAME:CEST
DTSTART:20260329T010000
END:DAYLIGHT
BEGIN:STANDARD
TZOFFSETFROM:+0200
TZOFFSETTO:+0100
TZNAME:CET
DTSTART:20261025T010000
END:STANDARD
BEGIN:DAYLIGHT
TZOFFSETFROM:+0100
TZOFFSETTO:+0200
TZNAME:CEST
DTSTART:20270328T010000
END:DAYLIGHT
BEGIN:STANDARD
TZOFFSETFROM:+0200
TZOFFSETTO:+0100
TZNAME:CET
DTSTART:20271031T010000
END:STANDARD
END:VTIMEZONE
BEGIN:VEVENT
DTSTART;TZID=Europe/Berlin:20260906T163000
DTEND;TZID=Europe/Berlin:20260906T163000
DTSTAMP:20260423T010903
CREATED:20260422T111757Z
LAST-MODIFIED:20260422T113120Z
UID:11674-1788712200-1788712200@barnatanko.com
SUMMARY:Sound of Nashville Open Air 2026
DESCRIPTION:Sound of Nashville Open Air 2026 \nThe Sound of Nashville Open Air returns to Cologne in 2026\, once again inviting music fans to a special late-summer open-air event. On September 6th\, the Kantine’s outdoor deck will be transformed into an open-air stage for international singer-songwriter and indie-folk acts. Following two successful editions\, the event continues to focus on an intimate open-air atmosphere\, powerful live performances\, and a stylistically diverse lineup. The 502s\, Rose Betts\, Zandi Holup\, and Birdtalker are four international acts who will bring modern folk\, Americana\, and indie sounds to Cologne. \nThe 502s bring their euphoric beach-folk sound and high-energy live shows to Cologne. The five-member band from Orlando captivates audiences with songs full of joie de vivre and a sense of community. On their latest album\, “Easy Street” (2025)\, the band combines their signature sound with a sun-drenched concept centered around the laid-back lifestyle of an imaginary coastal town. Following an extensive US tour and numerous festival appearances\, The 502s will return to Europe in 2026 as part of their “Nonsense All Night” tour. \nSongwriter Rose Betts is still considered a hidden gem in Germany\, but has already garnered a loyal international fanbase. The artist blends influences from her Irish roots with indie folk\, chamber pop\, and atmospheric storytelling. After her acclaimed debut album\, “White Orchids” (2022)\, her latest release\, “There Is No Ship\,” further solidified her reputation as an exceptional songwriter. Songs like “Irish Eyes” became streaming hits and made her a minor sensation on social media.Songwriter Rose Betts is still considered an insider tip in Germany\, but has already garnered a loyal international following. \nZandi Holup\, one of the most exciting new voices in the current folk and Americana scene\, is also on the bill. The singer-songwriter first garnered attention online with demo recordings and song fragments. Her debut album\, “Wildflower\,” produced by Ryan Hadlock (whose credits include Zach Bryan and Wyatt Flores)\, combines introspective songwriting with a haunting\, emotional voice. Stylistically\, Holup draws on the great folk traditions of artists like Joan Baez\, Bob Dylan\, and Joni Mitchell\, while her unfiltered storytelling simultaneously recalls the narrative power of classic country songwriters. As a live performer\, she has already impressed audiences as the opening act for Steve Earle\, Amanda Shires\, and Midland. \nThe lineup is rounded out by Birdtalker\, the acclaimed folk quartet from Nashville featuring Zack and Dani Green. The band garnered significant attention in 2018 with their debut album\, “One\,” and the single “Heavy\,” which has since amassed over 95 million streams. Critics from Rolling Stone to NPR praised the group’s warm\, harmonious sound\, which blends folk\, indie\, and Americana. With their album “All Means\, No End\,” Birdtalker continue their musical journey and continue to captivate audiences with their intense live performances. \nIn addition to the music\, visitors can once again expect a relaxed open-air atmosphere on the canteen’s deck in 2026. Food trucks\, beverage stands\, and select vendors will provide culinary delights and invite everyone to enjoy the day in a summery setting. The Sound of Nashville Open Air thus combines high-quality live music with a relaxed experience\, transforming Cologne into a meeting place for fans of international singer-songwriter and Americana sounds for one day only.
URL:https://barnatanko.com/event/sound-of-nashville-open-air-2026/
LOCATION:Die Kantine\, Neusser Landstraße 2\, Cologne\, 50735\, Germany
CATEGORIES:Americana,Country,Folk
ATTACH;FMTTYPE=image/webp:https://barnatanko.com/wp-content/uploads/2026/04/677166361_1568821605116194_5467407245748422060_n.webp
END:VEVENT
END:VCALENDAR