BEGIN:VCALENDAR
VERSION:2.0
PRODID:-//KonzertKult | Barna Tanko Photography - ECPv6.15.20//NONSGML v1.0//EN
CALSCALE:GREGORIAN
METHOD:PUBLISH
X-ORIGINAL-URL:https://barnatanko.com
X-WR-CALDESC:Events for KonzertKult | Barna Tanko Photography
REFRESH-INTERVAL;VALUE=DURATION:PT1H
X-Robots-Tag:noindex
X-PUBLISHED-TTL:PT1H
BEGIN:VTIMEZONE
TZID:Europe/Berlin
BEGIN:DAYLIGHT
TZOFFSETFROM:+0100
TZOFFSETTO:+0200
TZNAME:CEST
DTSTART:20250330T010000
END:DAYLIGHT
BEGIN:STANDARD
TZOFFSETFROM:+0200
TZOFFSETTO:+0100
TZNAME:CET
DTSTART:20251026T010000
END:STANDARD
BEGIN:DAYLIGHT
TZOFFSETFROM:+0100
TZOFFSETTO:+0200
TZNAME:CEST
DTSTART:20260329T010000
END:DAYLIGHT
BEGIN:STANDARD
TZOFFSETFROM:+0200
TZOFFSETTO:+0100
TZNAME:CET
DTSTART:20261025T010000
END:STANDARD
BEGIN:DAYLIGHT
TZOFFSETFROM:+0100
TZOFFSETTO:+0200
TZNAME:CEST
DTSTART:20270328T010000
END:DAYLIGHT
BEGIN:STANDARD
TZOFFSETFROM:+0200
TZOFFSETTO:+0100
TZNAME:CET
DTSTART:20271031T010000
END:STANDARD
END:VTIMEZONE
BEGIN:VEVENT
DTSTART;TZID=Europe/Berlin:20261023T180000
DTEND;TZID=Europe/Berlin:20261023T180000
DTSTAMP:20260420T185941
CREATED:20260418T151319Z
LAST-MODIFIED:20260418T151615Z
UID:11485-1792778400-1792778400@barnatanko.com
SUMMARY:Archspire
DESCRIPTION:ARCHSPIRE \n+ \nCROWN MAGNETARTHE ZENITH PASSAGEANALEPSY \nArchspire is a Canadian technical death metal band from Vancouver\, British Columbia\, known for their blistering speed\, complex arrangements\, and “shotgun” vocal style. Often referred to as “the fastest band on Earth\,” they are a prominent name in modern extreme metal. \nCurrent Status (April 2026)\n\nNew Album: Their fifth studio album\, Too Fast to Die\, was released on April 9\, 2026.\nLatest Music: Recent singles from the new album include “The Vessel” (released with a music video in April 2026)\, “Limb of Leviticus\,” “Red Goliath\,” and “Carrion Ladder“.\n\nCore Members\nThe band recently underwent its first lineup change in over a decade with the departure of long-time drummer Spencer Prewett in late 2024.\n\nOliver Rae Aleron (Oli Peters): Vocals (famed for rapid-fire delivery)\nDean Lamb: 8-string Guitar\nTobi Morelli: 8-string Guitar\nJared Smith: Bass\nSpencer Moore: Drums (joined for the recording of Too Fast to Die)
URL:https://barnatanko.com/event/archspire/
LOCATION:Essigfabrik\, Siegburger Str. 110\, Cologne\, 50579\, Germany
CATEGORIES:Death Metal
ATTACH;FMTTYPE=image/webp:https://barnatanko.com/wp-content/uploads/2026/04/Archspire.webp
END:VEVENT
END:VCALENDAR