BEGIN:VCALENDAR
VERSION:2.0
PRODID:-//KonzertKult | Barna Tanko Photography - ECPv6.15.20//NONSGML v1.0//EN
CALSCALE:GREGORIAN
METHOD:PUBLISH
X-WR-CALNAME:KonzertKult | Barna Tanko Photography
X-ORIGINAL-URL:https://barnatanko.com
X-WR-CALDESC:Events for KonzertKult | Barna Tanko Photography
REFRESH-INTERVAL;VALUE=DURATION:PT1H
X-Robots-Tag:noindex
X-PUBLISHED-TTL:PT1H
BEGIN:VTIMEZONE
TZID:Europe/Berlin
BEGIN:DAYLIGHT
TZOFFSETFROM:+0100
TZOFFSETTO:+0200
TZNAME:CEST
DTSTART:20250330T010000
END:DAYLIGHT
BEGIN:STANDARD
TZOFFSETFROM:+0200
TZOFFSETTO:+0100
TZNAME:CET
DTSTART:20251026T010000
END:STANDARD
BEGIN:DAYLIGHT
TZOFFSETFROM:+0100
TZOFFSETTO:+0200
TZNAME:CEST
DTSTART:20260329T010000
END:DAYLIGHT
BEGIN:STANDARD
TZOFFSETFROM:+0200
TZOFFSETTO:+0100
TZNAME:CET
DTSTART:20261025T010000
END:STANDARD
BEGIN:DAYLIGHT
TZOFFSETFROM:+0100
TZOFFSETTO:+0200
TZNAME:CEST
DTSTART:20270328T010000
END:DAYLIGHT
BEGIN:STANDARD
TZOFFSETFROM:+0200
TZOFFSETTO:+0100
TZNAME:CET
DTSTART:20271031T010000
END:STANDARD
END:VTIMEZONE
BEGIN:VEVENT
DTSTART;TZID=Europe/Berlin:20260426T200000
DTEND;TZID=Europe/Berlin:20260426T200000
DTSTAMP:20260426T025350
CREATED:20260325T083540Z
LAST-MODIFIED:20260325T092137Z
UID:10203-1777233600-1777233600@barnatanko.com
SUMMARY:Balu Brigada - Portal Tour
DESCRIPTION:Balu Brigada – Portal Tour \nBalu Brigada are undoubtedly one of the most exciting bands from New Zealand right now. With their breakthrough song “So Cold”—which has now been streamed over 51 million times on Spotify—the band reached number 1 on the Alternative Radio Charts in the USA\, performed the song on Jimmy Kimmel Live!\, and was featured on the FIFA 2025 soundtrack. In 2025\, they toured the USA\, Australia\, New Zealand\, Europe\, and the UK as support for Twenty One Pilots\, making their catchy sound—a blend of indie\, surf rock\, grunge\, and alt-pop—a global sensation with energetic live shows. After releasing four EPs and a compilation album\, Balu Brigada’s long-awaited debut album\, “Portal\,” was released at the end of August 2025. Diffus magazine subsequently featured the band in a profile\, calling them “the next big thing” and comparing them to The Strokes\, early Tame Impala albums\, and Gorillaz. In April 2026\, Balu Brigada will embark on their first headline tour in Germany\, performing live in Munich\, Berlin\, Hamburg\, and Cologne. \nBalu Brigada formed in 2016 in Auckland\, New Zealand\, from brothers Henry (vocals & guitar)\, Charles (drums)\, and Pierre Brigada (keyboards)\, along with their school friend Guy Harrison (bass). Over time\, the band evolved into a duo consisting of Henry and Pierre\, who\, after several single releases and initial shows in New Zealand\, signed with Warner Music Australia and Atlantic Records in 2022. Balu Brigada began developing their uniquely multidimensional sound\, a blend of modern indie and alternative pop\, on their 2022 debut EP\, “I Should Be Home.” Their next album\, “Find A Way\,” followed in 2023 and included another fan favorite\, “Designer.” In 2024\, the single “So Cold” was released\, a game-changer for Balu Brigada and their most successful song to date. Having already garnered international media acclaim for their sound\, the band was invited by Twenty One Pilots to join them as special guests on their Clancy Tour\, giving their energetic live shows a global platform. The single “Backseat” became Balu Brigada’s next hit in May 2025. At the end of August\, they solidified their success with their debut album “Portal\,” which showcased the band’s sound in its entirety for the first time and brought them to Europe in the spring of 2026.
URL:https://barnatanko.com/event/balu-brigada-portal-tour/
LOCATION:Carlswerk Victoria\, Schanzenstraße 6-20\, Cologne\, 51063\, Germany
CATEGORIES:Indie Rock
ATTACH;FMTTYPE=image/jpeg:https://barnatanko.com/wp-content/uploads/2026/03/Balu-Brigada.jpg
END:VEVENT
END:VCALENDAR