BEGIN:VCALENDAR
VERSION:2.0
PRODID:-//KonzertKult | Barna Tanko Photography - ECPv6.15.20//NONSGML v1.0//EN
CALSCALE:GREGORIAN
METHOD:PUBLISH
X-WR-CALNAME:KonzertKult | Barna Tanko Photography
X-ORIGINAL-URL:https://barnatanko.com
X-WR-CALDESC:Events for KonzertKult | Barna Tanko Photography
REFRESH-INTERVAL;VALUE=DURATION:PT1H
X-Robots-Tag:noindex
X-PUBLISHED-TTL:PT1H
BEGIN:VTIMEZONE
TZID:Europe/Berlin
BEGIN:DAYLIGHT
TZOFFSETFROM:+0100
TZOFFSETTO:+0200
TZNAME:CEST
DTSTART:20250330T010000
END:DAYLIGHT
BEGIN:STANDARD
TZOFFSETFROM:+0200
TZOFFSETTO:+0100
TZNAME:CET
DTSTART:20251026T010000
END:STANDARD
BEGIN:DAYLIGHT
TZOFFSETFROM:+0100
TZOFFSETTO:+0200
TZNAME:CEST
DTSTART:20260329T010000
END:DAYLIGHT
BEGIN:STANDARD
TZOFFSETFROM:+0200
TZOFFSETTO:+0100
TZNAME:CET
DTSTART:20261025T010000
END:STANDARD
BEGIN:DAYLIGHT
TZOFFSETFROM:+0100
TZOFFSETTO:+0200
TZNAME:CEST
DTSTART:20270328T010000
END:DAYLIGHT
BEGIN:STANDARD
TZOFFSETFROM:+0200
TZOFFSETTO:+0100
TZNAME:CET
DTSTART:20271031T010000
END:STANDARD
END:VTIMEZONE
BEGIN:VEVENT
DTSTART;TZID=Europe/Berlin:20260421T200000
DTEND;TZID=Europe/Berlin:20260421T200000
DTSTAMP:20260421T164456
CREATED:20260328T125308Z
LAST-MODIFIED:20260328T131058Z
UID:10347-1776801600-1776801600@barnatanko.com
SUMMARY:Black Sabbitch -  Album Release Tour 2026
DESCRIPTION:Black Sabbitch – Album Release Tour 2026 \n\nBLACK SABBITCH — the all-female powerhouse hailed as the most popular Black Sabbath tribute band in the world — has officially signed with heavyweight label Ripple Music. The band is set to release their highly anticipated live album “Unrest in the West” later this year to a global audience. About the upcoming release\, drummer Angie Scarpa comments: “Every night on tour\, we make time to visit with fans\, and the number one question we’re asked is ‘When will you make a live album we can buy’? So when Ripple Music came calling the only dilemma we faced was what to include. 13 years in\, we have a huge catalog of material we play (enough for 8 records). We wanted to make a fun\, hard-hitting record that felt like our live shows and not lean on the same old setlist you might hear from countless others. We hope you enjoy the selections”. Formed in 2012 by acclaimed session drummer Angie Scarpa\, Black Sabbitch quickly became a force to be reckoned with\, recruiting an all-star lineup of musicians including Emily Burton (Fireball Ministry)\, Melanie Makaiwi (Penny Dreadfuls\, Scarling)\, and Alice Austin (Zola Turn). Over the past decade\, the band has captivated audiences worldwide\, selling out shows and earning the respect of critics\, fans\, and fellow musicians alike. \nBlack Sabbitch has transcended the typical “tribute band” label\, delivering electrifying performances that honor the spirit of Black Sabbath while adding their own unique energy and intensity. Their talent and dedication have earned them coveted spots at major festivals and events\, including the inaugural Ozzfiesta at the personal invitation of Sharon and Ozzy Osbourne\, performing at Cal Jam with Foo Fighters\, and playing to a crowd of 80\,000 at Wacken Open Air in Germany. The band has also headlined Psycho Las Vegas and The Maryland Doom Fest\, performed on The Kiss Kruise at the request of Paul Stanley\, and collaborated with artists like Nick Zinner (Yeah Yeah Yeahs)\, Shepard Fairey\, and Peaches. Critics have praised Black Sabbitch for their ability to capture the potency and swing of the original Sabbath catalog\, with publications like LA Weekly\, Times Union\, and San Diego Reader calling their performances “captivating\,” “undeniable\,” and “spellbinding.” With their forthcoming live album “Unrest in the West”\, Black Sabbitch is poised to bring their stunning live experience to fans around the globe. Featuring deep cuts like “A National Acrobat” and “Wheels of Confusion”\, this is a must-have collection for Sabbath worshipers everywhere.
URL:https://barnatanko.com/event/black-sabbitch-album-release-tour-2026/
LOCATION:Die Kantine\, Neusser Landstraße 2\, Cologne\, 50735\, Germany
CATEGORIES:Hard Rock
ATTACH;FMTTYPE=image/jpeg:https://barnatanko.com/wp-content/uploads/2026/03/Black-Sabbitch.jpeg
END:VEVENT
END:VCALENDAR